BEGIN:VCALENDAR
VERSION:2.0
PRODID:PHP
METHOD:PUBLISH
X-WR-CALNAME:Schedule
X-WR-TIMEZONE:Europe/Berlin
BEGIN:VTIMEZONE
TZID:Europe/Berlin
BEGIN:DAYLIGHT
TZOFFSETFROM:-0500
TZOFFSETTO:-0400
DTSTART:1403086496
RRULE:FREQ=YEARLY;BYMONTH=3;BYDAY=2SU
TZNAME:EDT
END:DAYLIGHT
BEGIN:STANDARD
TZOFFSETFROM:-0400
TZOFFSETTO:-0500
DTSTART:1403086496
RRULE:FREQ=YEARLY;BYMONTH=11;BYDAY=1SU
TZNAME:EST
END:STANDARD
END:VTIMEZONE
BEGIN:VEVENT
DTSTART:2026-05-15T09:00:00
DTEND:2026-05-15T14:00:00
DTSTAMP:20260422T124707Z
LOCATION:Ciutat de les Arts i les Ciències
DESCRIPTION:<p>Exposici&oacute\;n de los proyectos y entrega de premios</p>
SUMMARY:Cristalización en la escuela
SEQUENCE:0
END:VEVENT
END:VCALENDAR
